BEGIN:VCALENDAR
VERSION:2.0
PRODID:-//eventon.com NONSGML v1.0//EN
CALSCALE:GREGORIAN
METHOD:PUBLISH
BEGIN:VEVENT
UID:69e4e8d84b96f
DTSTAMP:20260419T143816Z
DTSTART:20260418T181500Z
DTEND:20260418T215900Z
LOCATION:
SUMMARY:Fernsehauftritt in der Sendung "Schlager-Spaß mit Andy Borg"
DESCRIPTION:Wir sind wieder dabei beim Schlager-Spaß mit Andy Borg am Sams
 tag\,  den 18.04.2026 um 20:15 Uhr im SWR Fernsehen.Save the date!!!\nhttps
 ://iduepferl-band.de/Termine_001/fernsehauftritt-in-der-sendung-schlager-sp
 ass-mit-andy-borg-4/
URL:https://iduepferl-band.de/Termine_001/fernsehauftritt-in-der-sendung-schlager-spass-mit-andy-borg-4/
END:VEVENT
END:VCALENDAR