BEGIN:VCALENDAR
VERSION:2.0
PRODID:-//eventon.com NONSGML v1.0//EN
CALSCALE:GREGORIAN
METHOD:PUBLISH
BEGIN:VEVENT
UID:69e4ed045c30e
DTSTAMP:20260419T145604Z
DTSTART:20261017T180000Z
DTEND:20261017T215900Z
LOCATION:84155 Bonbruck
SUMMARY:Weinfest Bonbruck
DESCRIPTION:\nhttps://iduepferl-band.de/Termine_001/weinfest-bonbruck-2/
URL:https://iduepferl-band.de/Termine_001/weinfest-bonbruck-2/
END:VEVENT
END:VCALENDAR