BEGIN:VCALENDAR
VERSION:2.0
PRODID:-//eventon.com NONSGML v1.0//EN
CALSCALE:GREGORIAN
METHOD:PUBLISH
BEGIN:VEVENT
UID:69e52a2934c75
DTSTAMP:20260419T191657Z
DTSTART:20260911T170000Z
DTEND:20260911T215900Z
LOCATION:Lenting 85101 Lenting
SUMMARY:Jurafest Lenting
DESCRIPTION:\nhttps://iduepferl-band.de/Termine_001/jurafest-lenting-2/
URL:https://iduepferl-band.de/Termine_001/jurafest-lenting-2/
END:VEVENT
END:VCALENDAR