BEGIN:VCALENDAR
VERSION:2.0
PRODID:-//eventon.com NONSGML v1.0//EN
CALSCALE:GREGORIAN
METHOD:PUBLISH
BEGIN:VEVENT
UID:69e4e9ce9f003
DTSTAMP:20260419T144222Z
DTSTART:20261001T170000Z
DTEND:20261001T215900Z
LOCATION:Volksfestplatz Ingolstadt Dreizehnerstraße\,  85049 Ingolstadt
SUMMARY:Hersbtvolksfest Ingolstadt
DESCRIPTION:Hersbtvolksfest Ingolstadt\nhttps://iduepferl-band.de/Termine_0
 01/hersbtvolksfest-ingolstadt/
URL:https://iduepferl-band.de/Termine_001/hersbtvolksfest-ingolstadt/
END:VEVENT
END:VCALENDAR