BEGIN:VCALENDAR
VERSION:2.0
PRODID:-//eventon.com NONSGML v1.0//EN
CALSCALE:GREGORIAN
METHOD:PUBLISH
BEGIN:VEVENT
UID:69e4eaaa9a7ad
DTSTAMP:20260419T144602Z
DTSTART:20260919T183000Z
DTEND:20260919T235900Z
LOCATION:Festplatz 85290 Geisenfeld
SUMMARY:Volksfest Geisenfeld
DESCRIPTION:\nhttps://iduepferl-band.de/Termine_001/volksfest-geisenfeld/
URL:https://iduepferl-band.de/Termine_001/volksfest-geisenfeld/
END:VEVENT
END:VCALENDAR