BEGIN:VCALENDAR
VERSION:2.0
PRODID:-//eventon.com NONSGML v1.0//EN
CALSCALE:GREGORIAN
METHOD:PUBLISH
BEGIN:VEVENT
UID:69e4e9c475831
DTSTAMP:20260419T144212Z
DTSTART:20260906T160000Z
DTEND:20260906T215900Z
LOCATION:Michaelimesse Miltenberg Mainstraße 52; 63897 Miltenberg
SUMMARY:Michaelismesse Miltenberg
DESCRIPTION:\nhttps://iduepferl-band.de/Termine_001/michaelismesse-miltenbe
 rg-2/
URL:https://iduepferl-band.de/Termine_001/michaelismesse-miltenberg-2/
END:VEVENT
END:VCALENDAR