BEGIN:VCALENDAR
VERSION:2.0
PRODID:-//eventon.com NONSGML v1.0//EN
CALSCALE:GREGORIAN
METHOD:PUBLISH
BEGIN:VEVENT
UID:69e4f32f4836e
DTSTAMP:20260419T152223Z
DTSTART:20260815T190000Z
DTEND:20260815T235900Z
LOCATION:Festplatz Niederviehbach 84183 Niederviehbach
SUMMARY:Volksfest Niederviehbach
DESCRIPTION:\nhttps://iduepferl-band.de/Termine_001/volksfest-niederviehbac
 h-2/
URL:https://iduepferl-band.de/Termine_001/volksfest-niederviehbach-2/
END:VEVENT
END:VCALENDAR