BEGIN:VCALENDAR
VERSION:2.0
PRODID:-//eventon.com NONSGML v1.0//EN
CALSCALE:GREGORIAN
METHOD:PUBLISH
BEGIN:VEVENT
UID:69e4e8d5d783c
DTSTAMP:20260419T143813Z
DTSTART:20260813T170000Z
DTEND:20260813T215900Z
LOCATION:Eisstadion Dorfen Am Volksfestplatz 2; 84405 Dorfen
SUMMARY:Volksfest Dorfen
DESCRIPTION:\nhttps://iduepferl-band.de/Termine_001/volksfest-dorfen-2/
URL:https://iduepferl-band.de/Termine_001/volksfest-dorfen-2/
END:VEVENT
END:VCALENDAR