BEGIN:VCALENDAR
VERSION:2.0
PRODID:-//eventon.com NONSGML v1.0//EN
CALSCALE:GREGORIAN
METHOD:PUBLISH
BEGIN:VEVENT
UID:69e789f2b1289
DTSTAMP:20260421T143010Z
DTSTART:20260812T190000Z
DTEND:20260812T235900Z
LOCATION:Gäubodenvolksfest Am Hagen 75\,  94315 Straubing
SUMMARY:Gäubodenvolksfest Straubing
DESCRIPTION:\nhttps://iduepferl-band.de/Termine_001/gaeubodenvolksfest-stra
 ubing-2/
URL:https://iduepferl-band.de/Termine_001/gaeubodenvolksfest-straubing-2/
END:VEVENT
END:VCALENDAR