BEGIN:VCALENDAR
VERSION:2.0
PRODID:-//eventon.com NONSGML v1.0//EN
CALSCALE:GREGORIAN
METHOD:PUBLISH
BEGIN:VEVENT
UID:69e4e96f7d81a
DTSTAMP:20260419T144047Z
DTSTART:20260725T190000Z
DTEND:20260725T235900Z
LOCATION:Festplatz Reichertshofen 85084 Reichertshofen
SUMMARY:Paarfest Reichertshofen
DESCRIPTION:\nhttps://iduepferl-band.de/Termine_001/paarfest-reichertshofen
 -2/
URL:https://iduepferl-band.de/Termine_001/paarfest-reichertshofen-2/
END:VEVENT
END:VCALENDAR