BEGIN:VCALENDAR
VERSION:2.0
PRODID:-//eventon.com NONSGML v1.0//EN
CALSCALE:GREGORIAN
METHOD:PUBLISH
BEGIN:VEVENT
UID:69e4eb54bea43
DTSTAMP:20260419T144852Z
DTSTART:20260717T190000Z
DTEND:20260717T235900Z
LOCATION:Festplatz Taufkirchen (Vils) Hilpolding 1\,  84416 Taufkirchen (Vils)
SUMMARY:Volksfest Taufkirchen (Vils)
DESCRIPTION:\nhttps://iduepferl-band.de/Termine_001/volksfest-taufkirchen-v
 ils-2/
URL:https://iduepferl-band.de/Termine_001/volksfest-taufkirchen-vils-2/
END:VEVENT
END:VCALENDAR