BEGIN:VCALENDAR
VERSION:2.0
PRODID:-//eventon.com NONSGML v1.0//EN
CALSCALE:GREGORIAN
METHOD:PUBLISH
BEGIN:VEVENT
UID:69e4ed19b670b
DTSTAMP:20260419T145625Z
DTSTART:20260711T160000Z
DTEND:20260711T215900Z
LOCATION:Festplatz Talavera Mainaustr. 97082 Würzburg
SUMMARY:Kiliani-Volksfest Würzburg
DESCRIPTION:\nhttps://iduepferl-band.de/Termine_001/kiliani-volksfest-wuerz
 burg-2/
URL:https://iduepferl-band.de/Termine_001/kiliani-volksfest-wuerzburg-2/
END:VEVENT
END:VCALENDAR