BEGIN:VCALENDAR
VERSION:2.0
PRODID:-//eventon.com NONSGML v1.0//EN
CALSCALE:GREGORIAN
METHOD:PUBLISH
BEGIN:VEVENT
UID:69e4ec8fce534
DTSTAMP:20260419T145407Z
DTSTART:20260703T190000Z
DTEND:20260703T235900Z
LOCATION:Festplatz Garching 85748 Garching bei München
SUMMARY:Garchinger Bürgerfest
DESCRIPTION:\nhttps://iduepferl-band.de/Termine_001/garchinger-buergerfest-
 2/
URL:https://iduepferl-band.de/Termine_001/garchinger-buergerfest-2/
END:VEVENT
END:VCALENDAR