BEGIN:VCALENDAR
VERSION:2.0
PRODID:-//eventon.com NONSGML v1.0//EN
CALSCALE:GREGORIAN
METHOD:PUBLISH
BEGIN:VEVENT
UID:69e4ec40419b8
DTSTAMP:20260419T145248Z
DTSTART:20260628T080000Z
DTEND:20260628T235900Z
LOCATION:84107 Weihmichl bei Landshut
SUMMARY:Gründungsfest KLJB Weihmichl
DESCRIPTION:\nhttps://iduepferl-band.de/Termine_001/gruendungsfest-kljb-wei
 hmichl/
URL:https://iduepferl-band.de/Termine_001/gruendungsfest-kljb-weihmichl/
END:VEVENT
END:VCALENDAR