BEGIN:VCALENDAR
VERSION:2.0
PRODID:-//eventon.com NONSGML v1.0//EN
CALSCALE:GREGORIAN
METHOD:PUBLISH
BEGIN:VEVENT
UID:69e7d6dba87ac
DTSTAMP:20260421T195819Z
DTSTART:20260530T160000Z
DTEND:20260530T215900Z
LOCATION:Dultplatz Regensburg Dultplatz\,  93059 Regensburg
SUMMARY:Regensburger Maidult
DESCRIPTION:\nhttps://iduepferl-band.de/Termine_001/regensburger-maidult-2/
URL:https://iduepferl-band.de/Termine_001/regensburger-maidult-2/
END:VEVENT
END:VCALENDAR