BEGIN:VCALENDAR
VERSION:2.0
PRODID:-//eventon.com NONSGML v1.0//EN
CALSCALE:GREGORIAN
METHOD:PUBLISH
BEGIN:VEVENT
UID:69e4e0d719fb3
DTSTAMP:20260419T140407Z
DTSTART:20260529T190000Z
DTEND:20260529T235900Z
LOCATION:Lohhofer Volksfest Münchner Ring 20\,  85716 Unterschleißheim
SUMMARY:Lohhofer Volksfest
DESCRIPTION:\nhttps://iduepferl-band.de/Termine_001/lohhofer-volksfest-2/
URL:https://iduepferl-band.de/Termine_001/lohhofer-volksfest-2/
END:VEVENT
END:VCALENDAR