BEGIN:VCALENDAR
VERSION:2.0
PRODID:-//eventon.com NONSGML v1.0//EN
CALSCALE:GREGORIAN
METHOD:PUBLISH
BEGIN:VEVENT
UID:69e4eb648ba41
DTSTAMP:20260419T144908Z
DTSTART:20260528T170000Z
DTEND:20260528T215900Z
LOCATION:Volksfestplatz Ingolstadt Dreizehnerstraße\,  85049 Ingolstadt
SUMMARY:Pfingstvolksfest Ingolstadt
DESCRIPTION:Pfingstvolksfest Ingolstadt\nhttps://iduepferl-band.de/Termine_
 001/pfingstvolksfest-ingolstadt-4/
URL:https://iduepferl-band.de/Termine_001/pfingstvolksfest-ingolstadt-4/
END:VEVENT
END:VCALENDAR