BEGIN:VCALENDAR
VERSION:2.0
PRODID:-//eventon.com NONSGML v1.0//EN
CALSCALE:GREGORIAN
METHOD:PUBLISH
BEGIN:VEVENT
UID:69e4ed24219b3
DTSTAMP:20260419T145636Z
DTSTART:20260524T210000Z
DTEND:20260524T235900Z
LOCATION:Festplatz Beidl 95703 Beidl
SUMMARY:Gründungsfest FFW Beidl (Landkreis Tirschenreuth)
DESCRIPTION:\nhttps://iduepferl-band.de/Termine_001/gruendungsfest-feuerweh
 r-beide/
URL:https://iduepferl-band.de/Termine_001/gruendungsfest-feuerwehr-beide/
END:VEVENT
END:VCALENDAR