BEGIN:VCALENDAR
VERSION:2.0
PRODID:-//eventon.com NONSGML v1.0//EN
CALSCALE:GREGORIAN
METHOD:PUBLISH
BEGIN:VEVENT
UID:69e7d95b6d3e8
DTSTAMP:20260421T200859Z
DTSTART:20260523T200000Z
DTEND:20260523T235900Z
LOCATION:Festplatz Fünfstetten Im Bril 18\,  86681 Fünfstetten
SUMMARY:Gründungsfest KSV Fünfstetten
DESCRIPTION:\nhttps://iduepferl-band.de/Termine_001/gruendungsfest-ksv-fuen
 fstetten/
URL:https://iduepferl-band.de/Termine_001/gruendungsfest-ksv-fuenfstetten/
END:VEVENT
END:VCALENDAR