BEGIN:VCALENDAR
VERSION:2.0
PRODID:-//eventon.com NONSGML v1.0//EN
CALSCALE:GREGORIAN
METHOD:PUBLISH
BEGIN:VEVENT
UID:69e529aabaf75
DTSTAMP:20260419T191450Z
DTSTART:20260516T170000Z
DTEND:20260516T215900Z
LOCATION:Maiwiese Burghausen 84489 Burghausen
SUMMARY:Burghauser Mai Wies'n
DESCRIPTION:Wir freuen uns riesig heuer wieder auf der Maiwiesn in Burghaus
 en spielen zu dürfen 🤩🎸Wir spielen am Samstag\,  den 16.05.2026 im g
 roßen Festzelt der Festwirtsfamilie Römersperger-Richter 🍻 Mehr Infos 
 zur Veranstaltung findet ihr hier:https://www.maiwiesn.de Infos zur Tischre
 servierung findet ihr HIER:https://www.bierzeltbetrieb.de\nhttps://iduepfer
 l-band.de/Termine_001/burghauser-mai-wiesn-2/
URL:https://iduepferl-band.de/Termine_001/burghauser-mai-wiesn-2/
END:VEVENT
END:VCALENDAR