BEGIN:VCALENDAR
VERSION:2.0
PRODID:-//eventon.com NONSGML v1.0//EN
CALSCALE:GREGORIAN
METHOD:PUBLISH
BEGIN:VEVENT
UID:69e4ea1336c7c
DTSTAMP:20260419T144331Z
DTSTART:20260509T190000Z
DTEND:20260509T235900Z
LOCATION:Volksfestplatz Schrobenhausen Aichacher Straße 21\,  86529 Schrobenhausen
SUMMARY:Volksfest Schrobenhausen
DESCRIPTION:\nhttps://iduepferl-band.de/Termine_001/volksfest-schrobenhause
 n/
URL:https://iduepferl-band.de/Termine_001/volksfest-schrobenhausen/
END:VEVENT
END:VCALENDAR