BEGIN:VCALENDAR
VERSION:2.0
PRODID:-//eventon.com NONSGML v1.0//EN
CALSCALE:GREGORIAN
METHOD:PUBLISH
BEGIN:VEVENT
UID:69e4e9cc58a06
DTSTAMP:20260419T144220Z
DTSTART:20260422T160000Z
DTEND:20260422T215900Z
LOCATION:Grieserwiese Landshut Wittstraße 9\,  84036 Landshut
SUMMARY:Landshuter Frühjahrsdult
DESCRIPTION:Mehr Infos zur Veranstaltung:www.franz-widmann.de\nhttps://idue
 pferl-band.de/Termine_001/landshuter-fruehjahrsdult-3/
URL:https://iduepferl-band.de/Termine_001/landshuter-fruehjahrsdult-3/
END:VEVENT
END:VCALENDAR