BEGIN:VCALENDAR
VERSION:2.0
PRODID:-//eventon.com NONSGML v1.0//EN
CALSCALE:GREGORIAN
METHOD:PUBLISH
BEGIN:VEVENT
UID:69e4e60e319ca
DTSTAMP:20260419T142622Z
DTSTART:20260110T190000Z
DTEND:20260110T225900Z
LOCATION:Gasthaus Grubwinkler Werkstraße 1\,  84155 Bodenkirchen
SUMMARY:Skihaserlball Vilsbiburg
DESCRIPTION:\nhttps://iduepferl-band.de/Termine_001/skihaserlball-vilsbibur
 g-3/
URL:https://iduepferl-band.de/Termine_001/skihaserlball-vilsbiburg-3/
END:VEVENT
END:VCALENDAR