BEGIN:VCALENDAR
VERSION:2.0
PRODID:-//eventon.com NONSGML v1.0//EN
CALSCALE:GREGORIAN
METHOD:PUBLISH
BEGIN:VEVENT
UID:69e74cbe04b01
DTSTAMP:20260421T100902Z
DTSTART:20250912T170000Z
DTEND:20250912T215900Z
LOCATION:Lenting 85101 Lenting
SUMMARY:Jurafest Lenting
DESCRIPTION:\nhttps://iduepferl-band.de/Termine_001/jurafest-lenting/
URL:https://iduepferl-band.de/Termine_001/jurafest-lenting/
END:VEVENT
END:VCALENDAR