BEGIN:VCALENDAR
VERSION:2.0
PRODID:-//eventon.com NONSGML v1.0//EN
CALSCALE:GREGORIAN
METHOD:PUBLISH
BEGIN:VEVENT
UID:69e4e3ecc3aba
DTSTAMP:20260419T141716Z
DTSTART:20220212T190000Z
DTEND:20220212T225000Z
LOCATION:Gasthaus Köck Frontenhausener Straße 41; 84175 Gerzen
SUMMARY:Faschingsball Gerzen
DESCRIPTION:Beginn: 20:00 Uhr\nhttps://iduepferl-band.de/Termine_001/faschi
 ngsball-gerzen/
URL:https://iduepferl-band.de/Termine_001/faschingsball-gerzen/
END:VEVENT
END:VCALENDAR